BEGIN:VCALENDAR
VERSION:2.0
PRODID:icalendar-ruby
CALSCALE:GREGORIAN
METHOD:PUBLISH
BEGIN:VEVENT
DTSTAMP:20260422T123846Z
UID:44-564385@rccnd.org
DTSTART:20261007T230000Z
DTEND:20261008T010000Z
CLASS:PUBLIC
CREATED:20260422T065029
DESCRIPTION:Generally meets weekly @ 7pm at the home of Rick &amp\; Tammy E
 dwards.  Please reach out to Tammy Edwards at Rick.tam.edwards@gmail.com 
 for details and location information.
LAST-MODIFIED:20260422T065029
LOCATION:Home of Rick & Tammy Edwards
SUMMARY:Restore Group meeting - Edwards
URL;VALUE=URI:https://rccnd.org/events/restore-group-meeting-edwards/2026-1
 0-07
END:VEVENT
END:VCALENDAR
