BEGIN:VCALENDAR
VERSION:2.0
PRODID:icalendar-ruby
CALSCALE:GREGORIAN
METHOD:PUBLISH
BEGIN:VEVENT
DTSTAMP:20260421T202646Z
UID:42-563121@rccnd.org
DTSTART:20261018T160000Z
DTEND:20261018T180000Z
CLASS:PUBLIC
CREATED:20260421T143708
DESCRIPTION:Generally this Restore Group meets weekly\, shortly after the e
 nd of worship service.  Please reach out to Andrew Morton about any speci
 fic date at Andrew@rccnd.org.\n 
LAST-MODIFIED:20260421T143708
LOCATION:6483 Old US Highway 52
SUMMARY:Restore Group meeting - Morton
URL;VALUE=URI:https://rccnd.org/events/restore-group-meeting-morton/2026-10
 -18
END:VEVENT
END:VCALENDAR
