BEGIN:VCALENDAR
VERSION:2.0
PRODID:icalendar-ruby
CALSCALE:GREGORIAN
METHOD:PUBLISH
BEGIN:VEVENT
DTSTAMP:20260421T214840Z
UID:42-563530@rccnd.org
DTSTART:20261025T160000Z
DTEND:20261025T180000Z
CLASS:PUBLIC
CREATED:20260421T171345
DESCRIPTION:Generally this Restore Group meets weekly\, shortly after the e
 nd of worship service.  Please reach out to Andrew Morton about any speci
 fic date at Andrew@rccnd.org.\n 
LAST-MODIFIED:20260421T171345
LOCATION:6483 Old US Highway 52
SUMMARY:Restore Group meeting - Morton
URL;VALUE=URI:https://rccnd.org/events/restore-group-meeting-morton/2026-10
 -25
END:VEVENT
END:VCALENDAR
