BEGIN:VCALENDAR
VERSION:2.0
PRODID:icalendar-ruby
CALSCALE:GREGORIAN
METHOD:PUBLISH
BEGIN:VEVENT
DTSTAMP:20260423T202615Z
UID:46-568101@rccnd.org
DTSTART:20261018T220000Z
DTEND:20261019T000000Z
CLASS:PUBLIC
CREATED:20260423T153603
DESCRIPTION:Please reach out to Brandon Staton for specific location and if
  there is any change in meeting time or location.\nBrandon can be reached 
 at 336-970-1608
LAST-MODIFIED:20260423T153603
LOCATION:Home of Brandon & Nicci Staton
SUMMARY:Restore Group meeting
URL;VALUE=URI:https://rccnd.org/events/restore-group-meeting/2026-10-18
END:VEVENT
END:VCALENDAR
